BEGIN:VCALENDAR
VERSION:2.0
PRODID:-//ReadyOn - ECPv6.15.20//NONSGML v1.0//EN
CALSCALE:GREGORIAN
METHOD:PUBLISH
X-WR-CALNAME:ReadyOn
X-ORIGINAL-URL:https://readyon.be
X-WR-CALDESC:Évènements pour ReadyOn
REFRESH-INTERVAL;VALUE=DURATION:PT1H
X-Robots-Tag:noindex
X-PUBLISHED-TTL:PT1H
BEGIN:VTIMEZONE
TZID:Europe/Paris
BEGIN:DAYLIGHT
TZOFFSETFROM:+0100
TZOFFSETTO:+0200
TZNAME:CEST
DTSTART:20240331T010000
END:DAYLIGHT
BEGIN:STANDARD
TZOFFSETFROM:+0200
TZOFFSETTO:+0100
TZNAME:CET
DTSTART:20241027T010000
END:STANDARD
BEGIN:DAYLIGHT
TZOFFSETFROM:+0100
TZOFFSETTO:+0200
TZNAME:CEST
DTSTART:20250330T010000
END:DAYLIGHT
BEGIN:STANDARD
TZOFFSETFROM:+0200
TZOFFSETTO:+0100
TZNAME:CET
DTSTART:20251026T010000
END:STANDARD
BEGIN:DAYLIGHT
TZOFFSETFROM:+0100
TZOFFSETTO:+0200
TZNAME:CEST
DTSTART:20260329T010000
END:DAYLIGHT
BEGIN:STANDARD
TZOFFSETFROM:+0200
TZOFFSETTO:+0100
TZNAME:CET
DTSTART:20261025T010000
END:STANDARD
END:VTIMEZONE
BEGIN:VEVENT
DTSTART;TZID=Europe/Paris:20250811T180000
DTEND;TZID=Europe/Paris:20250811T200000
DTSTAMP:20260421T145033
CREATED:20250222T144006Z
LAST-MODIFIED:20250520T200940Z
UID:1441-1754935200-1754942400@readyon.be
SUMMARY:Baptêmes Francorchamps JCL-Tracknight 11-08-2025
DESCRIPTION:Baptêmes de piste en Porsche GT3 durant la soirée sur le circuit de Spa-Francorchamps \n\nTracknight organisé par JCL Driving\nNombre de baptêmes disponibles : 6\nCoaching disponible : oui\nActivités de groupe disponibles : oui\nTarif :\n\n2 tours : 205€\n3 tours : 290€
URL:https://readyon.be/evenement/baptemes-francorchamps-jcl-tracknight-11-08-2025/
LOCATION:Circuit de Spa-Francorchamps\, Route du Circuit\, 55\, Stavelot\, 4970\, Belgique
END:VEVENT
BEGIN:VEVENT
DTSTART;TZID=Europe/Paris:20250825T090000
DTEND;TZID=Europe/Paris:20250825T180000
DTSTAMP:20260421T145033
CREATED:20241205T144010Z
LAST-MODIFIED:20250520T200841Z
UID:1408-1756112400-1756144800@readyon.be
SUMMARY:Baptêmes Francorchamps MDE -Trackday 25-08-2025
DESCRIPTION:Baptêmes de piste en Porsche GT3 durant la journée sur le circuit de Spa-Francorchamps \n\nTrackday organisé par Marc Duez Events\nNombre de baptêmes possibles : 15\nCoaching disponible : oui\nActivités de groupe disponibles : oui\nTarif :\n\n2 tours : 205€\n3 tours : 305€\n\n\nEn journée\, un supplément peut être demandé\, suivant les tarifs des organisateurs.
URL:https://readyon.be/evenement/baptemes-francorchamps-mde-trackday-25-08-2025/
LOCATION:Circuit de Spa-Francorchamps\, Route du Circuit\, 55\, Stavelot\, 4970\, Belgique
END:VEVENT
END:VCALENDAR