BEGIN:VCALENDAR
VERSION:2.0
PRODID:-//ReadyOn - ECPv6.15.20//NONSGML v1.0//EN
CALSCALE:GREGORIAN
METHOD:PUBLISH
X-WR-CALNAME:ReadyOn
X-ORIGINAL-URL:https://readyon.be
X-WR-CALDESC:Évènements pour ReadyOn
REFRESH-INTERVAL;VALUE=DURATION:PT1H
X-Robots-Tag:noindex
X-PUBLISHED-TTL:PT1H
BEGIN:VTIMEZONE
TZID:Europe/Paris
BEGIN:DAYLIGHT
TZOFFSETFROM:+0100
TZOFFSETTO:+0200
TZNAME:CEST
DTSTART:20250330T010000
END:DAYLIGHT
BEGIN:STANDARD
TZOFFSETFROM:+0200
TZOFFSETTO:+0100
TZNAME:CET
DTSTART:20251026T010000
END:STANDARD
BEGIN:DAYLIGHT
TZOFFSETFROM:+0100
TZOFFSETTO:+0200
TZNAME:CEST
DTSTART:20260329T010000
END:DAYLIGHT
BEGIN:STANDARD
TZOFFSETFROM:+0200
TZOFFSETTO:+0100
TZNAME:CET
DTSTART:20261025T010000
END:STANDARD
BEGIN:DAYLIGHT
TZOFFSETFROM:+0100
TZOFFSETTO:+0200
TZNAME:CEST
DTSTART:20270328T010000
END:DAYLIGHT
BEGIN:STANDARD
TZOFFSETFROM:+0200
TZOFFSETTO:+0100
TZNAME:CET
DTSTART:20271031T010000
END:STANDARD
END:VTIMEZONE
BEGIN:VEVENT
DTSTART;TZID=Europe/Paris:20260531T123000
DTEND;TZID=Europe/Paris:20260531T210000
DTSTAMP:20260420T092102
CREATED:20260418T134635Z
LAST-MODIFIED:20260418T142034Z
UID:1538-1780230600-1780261200@readyon.be
SUMMARY:ReadyOn Rally - Ardennes Tour 2026 - 31/05/26
DESCRIPTION:ReadyOn Rally – Ardennes Tour\, le 31 mai 2026. \nAu programme de cette journée : \n– Un roadtrip d’environ 200 km entre Belgique\, l’Allemagne et le Luxembourg– Des routes sélectionnées pour leur qualité et leur plaisir de conduite– Un roadbook clair et accessible– Une pause apéritive en cours de parcours– Un jeu d’observation avec remise de prix– Un dîner de clôture (apéritif\, plat\, dessert et boissons) dans un restaurant privatisé avec parking surveillé \n💰 125€ par personne (formule all-in)(sur base de 2 personnes par véhicule) \n⚠️ Places limitées à 25 équipages \n👉 Événement ouvert à tout véhicule à caractère sportif ou ancêtre\, dans un esprit cohérent avec l’expérience ReadyOn. \n\n🎁 Cet événement est organisé avec le soutien de partenaires de qualité :Detail Ose – spécialiste du detailing automobileBABOR Institut Herve – soins visage et corpsPlaisir des Sens – bougies et fondants naturels \n\n👉 Inscription via le formulaire : INSCRIPTIONS READYON RALLY
URL:https://readyon.be/evenement/readyon-rally-ardennes-tour-31-05-26/
END:VEVENT
END:VCALENDAR