BEGIN:VCALENDAR
VERSION:2.0
PRODID:-//ReadyOn - ECPv6.15.20//NONSGML v1.0//EN
CALSCALE:GREGORIAN
METHOD:PUBLISH
X-ORIGINAL-URL:https://readyon.be
X-WR-CALDESC:Évènements pour ReadyOn
REFRESH-INTERVAL;VALUE=DURATION:PT1H
X-Robots-Tag:noindex
X-PUBLISHED-TTL:PT1H
BEGIN:VTIMEZONE
TZID:Europe/Paris
BEGIN:DAYLIGHT
TZOFFSETFROM:+0100
TZOFFSETTO:+0200
TZNAME:CEST
DTSTART:20250330T010000
END:DAYLIGHT
BEGIN:STANDARD
TZOFFSETFROM:+0200
TZOFFSETTO:+0100
TZNAME:CET
DTSTART:20251026T010000
END:STANDARD
BEGIN:DAYLIGHT
TZOFFSETFROM:+0100
TZOFFSETTO:+0200
TZNAME:CEST
DTSTART:20260329T010000
END:DAYLIGHT
BEGIN:STANDARD
TZOFFSETFROM:+0200
TZOFFSETTO:+0100
TZNAME:CET
DTSTART:20261025T010000
END:STANDARD
BEGIN:DAYLIGHT
TZOFFSETFROM:+0100
TZOFFSETTO:+0200
TZNAME:CEST
DTSTART:20270328T010000
END:DAYLIGHT
BEGIN:STANDARD
TZOFFSETFROM:+0200
TZOFFSETTO:+0100
TZNAME:CET
DTSTART:20271031T010000
END:STANDARD
END:VTIMEZONE
BEGIN:VEVENT
DTSTART;TZID=Europe/Paris:20260412T090000
DTEND;TZID=Europe/Paris:20260412T180000
DTSTAMP:20260422T005046
CREATED:20251023T211029Z
LAST-MODIFIED:20251023T211308Z
UID:1492-1775984400-1776016800@readyon.be
SUMMARY:Baptêmes Porsche Club Francorchamps Days 12-04-2026
DESCRIPTION:Baptêmes de piste en Porsche GT3 durant la journée sur le circuit de Spa-Francorchamps \n\nTrackday organisé par le Porsche Club Francorchamps\nNombre de baptêmes possibles : à confirmer\nCoaching disponible : oui\nActivités de groupe disponibles : oui\nTarif :\n\n2 tours : à confirmer\n3 tours : à confirmer
URL:https://readyon.be/evenement/baptemes-porsche-club-francorchamps-days-12-04-2026-2/
LOCATION:Circuit de Spa-Francorchamps\, Route du Circuit\, 55\, Stavelot\, 4970\, Belgique
END:VEVENT
END:VCALENDAR