BEGIN:VCALENDAR
VERSION:2.0
PRODID:-//ReadyOn - ECPv6.15.20//NONSGML v1.0//EN
CALSCALE:GREGORIAN
METHOD:PUBLISH
X-WR-CALNAME:ReadyOn
X-ORIGINAL-URL:https://readyon.be
X-WR-CALDESC:Évènements pour ReadyOn
REFRESH-INTERVAL;VALUE=DURATION:PT1H
X-Robots-Tag:noindex
X-PUBLISHED-TTL:PT1H
BEGIN:VTIMEZONE
TZID:Europe/Paris
BEGIN:DAYLIGHT
TZOFFSETFROM:+0100
TZOFFSETTO:+0200
TZNAME:CEST
DTSTART:20250330T010000
END:DAYLIGHT
BEGIN:STANDARD
TZOFFSETFROM:+0200
TZOFFSETTO:+0100
TZNAME:CET
DTSTART:20251026T010000
END:STANDARD
BEGIN:DAYLIGHT
TZOFFSETFROM:+0100
TZOFFSETTO:+0200
TZNAME:CEST
DTSTART:20260329T010000
END:DAYLIGHT
BEGIN:STANDARD
TZOFFSETFROM:+0200
TZOFFSETTO:+0100
TZNAME:CET
DTSTART:20261025T010000
END:STANDARD
BEGIN:DAYLIGHT
TZOFFSETFROM:+0100
TZOFFSETTO:+0200
TZNAME:CEST
DTSTART:20270328T010000
END:DAYLIGHT
BEGIN:STANDARD
TZOFFSETFROM:+0200
TZOFFSETTO:+0100
TZNAME:CET
DTSTART:20271031T010000
END:STANDARD
END:VTIMEZONE
BEGIN:VEVENT
DTSTART;TZID=Europe/Paris:20260331T090000
DTEND;TZID=Europe/Paris:20260331T180000
DTSTAMP:20260421T230046
CREATED:20260110T205256Z
LAST-MODIFIED:20260227T081251Z
UID:1499-1774947600-1774980000@readyon.be
SUMMARY:Baptêmes Francorchamps JCL-Trackday 31-03-2026
DESCRIPTION:Baptêmes de piste en Porsche GT3 durant la journée sur le circuit de Spa-Francorchamps \n\nTrackday organisé par JCL Driving by FM\nNombre de baptêmes possibles : 12\nCoaching disponible : oui\nActivités de groupe disponibles : oui\nTarif :\n\n2 tours : 230€\n3 tours : 345€\n1 tour supplémentaire : 115€\n\n\nEn journée\, un supplément peut être demandé\, suivant les tarifs des organisateurs.
URL:https://readyon.be/evenement/baptemes-francorchamps-jcl-trackday-31-03-2026/
LOCATION:Circuit de Spa-Francorchamps\, Route du Circuit\, 55\, Stavelot\, 4970\, Belgique
END:VEVENT
END:VCALENDAR